BEGIN:VCALENDAR
VERSION:2.0
PRODID:-//Plone.org//NONSGML plone.app.event//EN
X-WR-TIMEZONE:Europe/Rome
BEGIN:VEVENT
SUMMARY:What’s in a name? About names and non-names in ancient and medie
 val philosophy
DTSTART;TZID=Europe/Rome;VALUE=DATE-TIME:20181204T113000
DTEND;TZID=Europe/Rome;VALUE=DATE-TIME:20181204T133000
DTSTAMP;VALUE=DATE-TIME:20260421T072443Z
UID:ed39bfd0de74496d92ef1dad7943e3dc@filo.unibo.it
CREATED;VALUE=DATE-TIME:20181127T091321Z
LAST-MODIFIED;VALUE=DATE-TIME:20181127T091341Z
URL:https://filo.unibo.it/it/eventi/what2019s-in-a-name-about-names-and-no
 n-names-in-ancient-and-medieval-philosophy
END:VEVENT
BEGIN:VTIMEZONE
TZID:Europe/Rome
X-LIC-LOCATION:Europe/Rome
BEGIN:STANDARD
DTSTART;VALUE=DATE-TIME:20181028T020000
TZNAME:CET
TZOFFSETFROM:+0200
TZOFFSETTO:+0100
END:STANDARD
END:VTIMEZONE
END:VCALENDAR
