BEGIN:VCALENDAR
VERSION:2.0
PRODID:-//Plone.org//NONSGML plone.app.event//EN
X-WR-TIMEZONE:Europe/Rome
BEGIN:VEVENT
SUMMARY:Vittorio Morfino (Milano-Bicocca)\, due seminari su materialismo a
 leatorio e potere costituente
DTSTART;TZID=Europe/Rome;VALUE=DATE-TIME:20241209T110000
DTEND;TZID=Europe/Rome;VALUE=DATE-TIME:20241209T170000
DTSTAMP;VALUE=DATE-TIME:20260419T140840Z
UID:4e131909f8294d6982f2aa6117987fe3@filo.unibo.it
CREATED;VALUE=DATE-TIME:20241122T091159Z
LAST-MODIFIED;VALUE=DATE-TIME:20241122T091201Z
URL:https://filo.unibo.it/it/eventi/vittorio-morfino-milano-bicocca-due-se
 minari-su-materialismo-aleatorio-e-potere-costituente
END:VEVENT
BEGIN:VTIMEZONE
TZID:Europe/Rome
X-LIC-LOCATION:Europe/Rome
BEGIN:STANDARD
DTSTART;VALUE=DATE-TIME:20241027T020000
TZNAME:CET
TZOFFSETFROM:+0200
TZOFFSETTO:+0100
END:STANDARD
END:VTIMEZONE
END:VCALENDAR
