BEGIN:VCALENDAR
VERSION:2.0
PRODID:-//Plone.org//NONSGML plone.app.event//EN
X-WR-TIMEZONE:Europe/Rome
BEGIN:VEVENT
SUMMARY:Seminario UNIBO 2018    Le violenze maschili contro le donne
DTSTART;TZID=Europe/Rome;VALUE=DATE-TIME:20180307T170000
DTEND;TZID=Europe/Rome;VALUE=DATE-TIME:20180517T190000
DTSTAMP;VALUE=DATE-TIME:20260421T091653Z
UID:278b127210a349baa7c3a6220a7fbbde@filo.unibo.it
CREATED;VALUE=DATE-TIME:20180327T042040Z
LAST-MODIFIED;VALUE=DATE-TIME:20180327T042207Z
URL:https://filo.unibo.it/it/eventi/seminario-unibo-2018-le-violenze-masch
 ili-contro-le-donne
END:VEVENT
BEGIN:VTIMEZONE
TZID:Europe/Rome
X-LIC-LOCATION:Europe/Rome
BEGIN:STANDARD
DTSTART;VALUE=DATE-TIME:20171029T020000
TZNAME:CET
TZOFFSETFROM:+0200
TZOFFSETTO:+0100
END:STANDARD
BEGIN:DAYLIGHT
DTSTART;VALUE=DATE-TIME:20180325T030000
TZNAME:CEST
TZOFFSETFROM:+0100
TZOFFSETTO:+0200
END:DAYLIGHT
END:VTIMEZONE
END:VCALENDAR
