BEGIN:VCALENDAR
VERSION:2.0
PRODID:-//Plone.org//NONSGML plone.app.event//EN
X-WR-TIMEZONE:Europe/Rome
BEGIN:VEVENT
SUMMARY:Seminario "Di fronte all'Europa : radici\, sfide\, conflitti\, tra
 dimenti"
DTSTART;TZID=Europe/Rome;VALUE=DATE-TIME:20180201T110000
DTEND;TZID=Europe/Rome;VALUE=DATE-TIME:20180524T110000
DTSTAMP;VALUE=DATE-TIME:20260421T091717Z
UID:ade1e1176ee64b268d82b2363566fa72@filo.unibo.it
CREATED;VALUE=DATE-TIME:20171023T071840Z
DESCRIPTION:Seminario organizzato dal corso di Laurea in FIlosofia\, coord
 inato da\nFrancesco Cerrato e Marina Lalatta Costerbosa.\n
LAST-MODIFIED;VALUE=DATE-TIME:20171023T072059Z
URL:https://filo.unibo.it/it/eventi/seminario-di-fronte-alleuropa-radici-s
 fide-conflitti-tradimenti
END:VEVENT
BEGIN:VTIMEZONE
TZID:Europe/Rome
X-LIC-LOCATION:Europe/Rome
BEGIN:STANDARD
DTSTART;VALUE=DATE-TIME:20171029T020000
TZNAME:CET
TZOFFSETFROM:+0200
TZOFFSETTO:+0100
END:STANDARD
BEGIN:DAYLIGHT
DTSTART;VALUE=DATE-TIME:20180325T030000
TZNAME:CEST
TZOFFSETFROM:+0100
TZOFFSETTO:+0200
END:DAYLIGHT
END:VTIMEZONE
END:VCALENDAR
