BEGIN:VCALENDAR
VERSION:2.0
PRODID:-//Plone.org//NONSGML plone.app.event//EN
X-WR-TIMEZONE:Europe/Rome
BEGIN:VEVENT
SUMMARY:Seminario di Dipartimento (SeRiC): Verità e certezza come fini co
 stitutivi del domandare e del giudicare
DTSTART;TZID=Europe/Rome;VALUE=DATE-TIME:20180306T130000
DTEND;TZID=Europe/Rome;VALUE=DATE-TIME:20180306T150000
DTSTAMP;VALUE=DATE-TIME:20260421T091710Z
UID:1783ce65a4294a61a06c653b1af5020f@filo.unibo.it
CREATED;VALUE=DATE-TIME:20180305T072813Z
LAST-MODIFIED;VALUE=DATE-TIME:20180305T072831Z
URL:https://filo.unibo.it/it/eventi/seminario-di-dipartimento-seric-verita
 -e-certezza-come-fini-costitutivi-del-domandare-e-del-giudicare
END:VEVENT
BEGIN:VTIMEZONE
TZID:Europe/Rome
X-LIC-LOCATION:Europe/Rome
BEGIN:STANDARD
DTSTART;VALUE=DATE-TIME:20171029T020000
TZNAME:CET
TZOFFSETFROM:+0200
TZOFFSETTO:+0100
END:STANDARD
END:VTIMEZONE
END:VCALENDAR
