BEGIN:VCALENDAR
VERSION:2.0
PRODID:-//Plone.org//NONSGML plone.app.event//EN
X-WR-TIMEZONE:Europe/Rome
BEGIN:VEVENT
SUMMARY:Seminario di Dipartimento (SeRiC): Semiotica\, normalità\, normat
 ività
DTSTART;TZID=Europe/Rome;VALUE=DATE-TIME:20180327T130000
DTEND;TZID=Europe/Rome;VALUE=DATE-TIME:20180327T150000
DTSTAMP;VALUE=DATE-TIME:20260421T091653Z
UID:737447e378504981ba2bef964b07e026@filo.unibo.it
CREATED;VALUE=DATE-TIME:20180322T062004Z
LAST-MODIFIED;VALUE=DATE-TIME:20180322T062204Z
URL:https://filo.unibo.it/it/eventi/seminario-di-dipartimento-seric-semiot
 ica-normalita-normativita
END:VEVENT
BEGIN:VTIMEZONE
TZID:Europe/Rome
X-LIC-LOCATION:Europe/Rome
BEGIN:DAYLIGHT
DTSTART;VALUE=DATE-TIME:20180325T030000
TZNAME:CEST
TZOFFSETFROM:+0100
TZOFFSETTO:+0200
END:DAYLIGHT
END:VTIMEZONE
END:VCALENDAR
