BEGIN:VCALENDAR
VERSION:2.0
PRODID:-//Plone.org//NONSGML plone.app.event//EN
X-WR-TIMEZONE:Europe/Rome
BEGIN:VEVENT
SUMMARY:Seminario di Dipartimento (SeRiC): "Segni nella natura\, indizi ne
 l testo"
DTSTART;TZID=Europe/Rome;VALUE=DATE-TIME:20181113T130000
DTEND;TZID=Europe/Rome;VALUE=DATE-TIME:20181113T150000
DTSTAMP;VALUE=DATE-TIME:20260421T072517Z
UID:afc2079a015b4f15bb333f652af5464e@filo.unibo.it
CREATED;VALUE=DATE-TIME:20181105T090003Z
LAST-MODIFIED;VALUE=DATE-TIME:20181105T090045Z
URL:https://filo.unibo.it/it/eventi/seminario-di-dipartimento-seric-segni-
 nella-natura-indizi-nel-testo
END:VEVENT
BEGIN:VTIMEZONE
TZID:Europe/Rome
X-LIC-LOCATION:Europe/Rome
BEGIN:STANDARD
DTSTART;VALUE=DATE-TIME:20181028T020000
TZNAME:CET
TZOFFSETFROM:+0200
TZOFFSETTO:+0100
END:STANDARD
END:VTIMEZONE
END:VCALENDAR
