BEGIN:VCALENDAR
VERSION:2.0
PRODID:-//Plone.org//NONSGML plone.app.event//EN
X-WR-TIMEZONE:Europe/Rome
BEGIN:VEVENT
SUMMARY:Seminario di Dipartimento (SeRiC): Scrivere una canzone dopo Ausch
 witz è un atto di barbarie? Considerazioni sul "verdetto" di Adorno nell'
 epoca della "pop Shoah".
DTSTART;TZID=Europe/Rome;VALUE=DATE-TIME:20180417T130000
DTEND;TZID=Europe/Rome;VALUE=DATE-TIME:20180417T150000
DTSTAMP;VALUE=DATE-TIME:20260421T091710Z
UID:6ff5c4922ca24e18a6d674dd3b150641@filo.unibo.it
CREATED;VALUE=DATE-TIME:20180412T043454Z
LAST-MODIFIED;VALUE=DATE-TIME:20180412T043533Z
URL:https://filo.unibo.it/it/eventi/seminario-di-dipartimento-seric-scrive
 re-una-canzone-dopo-auschwitz-e-un-atto-di-barbarie-considerazioni-sul-ver
 detto-di-adorno-nellepoca-della-pop-shoah
END:VEVENT
BEGIN:VTIMEZONE
TZID:Europe/Rome
X-LIC-LOCATION:Europe/Rome
BEGIN:DAYLIGHT
DTSTART;VALUE=DATE-TIME:20180325T030000
TZNAME:CEST
TZOFFSETFROM:+0100
TZOFFSETTO:+0200
END:DAYLIGHT
END:VTIMEZONE
END:VCALENDAR
