BEGIN:VCALENDAR
VERSION:2.0
PRODID:-//Plone.org//NONSGML plone.app.event//EN
X-WR-TIMEZONE:Europe/Rome
BEGIN:VEVENT
SUMMARY:Seminario di Dipartimento (SeRiC): "Ripensare l’interesse. Una p
 roposta teorica a partire da John Dewey"
DTSTART;TZID=Europe/Rome;VALUE=DATE-TIME:20181127T130000
DTEND;TZID=Europe/Rome;VALUE=DATE-TIME:20181127T150000
DTSTAMP;VALUE=DATE-TIME:20260421T072518Z
UID:099baaa41ee24895afd7e5af8eac2466@filo.unibo.it
CREATED;VALUE=DATE-TIME:20181120T114609Z
LAST-MODIFIED;VALUE=DATE-TIME:20181120T114715Z
URL:https://filo.unibo.it/it/eventi/seminario-di-dipartimento-seric-ripens
 are-l2019interesse.-una-proposta-teorica-a-partire-da-john-dewey
END:VEVENT
BEGIN:VTIMEZONE
TZID:Europe/Rome
X-LIC-LOCATION:Europe/Rome
BEGIN:STANDARD
DTSTART;VALUE=DATE-TIME:20181028T020000
TZNAME:CET
TZOFFSETFROM:+0200
TZOFFSETTO:+0100
END:STANDARD
END:VTIMEZONE
END:VCALENDAR
