BEGIN:VCALENDAR
VERSION:2.0
PRODID:-//Plone.org//NONSGML plone.app.event//EN
X-WR-TIMEZONE:Europe/Rome
BEGIN:VEVENT
SUMMARY:Seminario di Dipartimento (SeRiC): "Presentation of the ERC Projec
 t Alchemy in the Making: From ancient Mesopotamia via Graeco-Roman Egypt i
 nto the Byzantine\, Syriac and Arabic traditions (1500 BCE – 1000 AD)"
DTSTART;TZID=Europe/Rome;VALUE=DATE-TIME:20180227T130000
DTEND;TZID=Europe/Rome;VALUE=DATE-TIME:20180227T150000
DTSTAMP;VALUE=DATE-TIME:20260421T091710Z
UID:321d2495b5224a3aaffcae1213435921@filo.unibo.it
CREATED;VALUE=DATE-TIME:20180223T085027Z
LAST-MODIFIED;VALUE=DATE-TIME:20180223T085132Z
URL:https://filo.unibo.it/it/eventi/seminario-di-dipartimento-seric-presen
 tation-of-the-erc-project-alchemy-in-the-making-from-ancient-mesopotamia-v
 ia-graeco-roman-egypt-into-the-byzantine-syriac-and-arabic-traditions-1500
 -bce-2013-1000-ad
END:VEVENT
BEGIN:VTIMEZONE
TZID:Europe/Rome
X-LIC-LOCATION:Europe/Rome
BEGIN:STANDARD
DTSTART;VALUE=DATE-TIME:20171029T020000
TZNAME:CET
TZOFFSETFROM:+0200
TZOFFSETTO:+0100
END:STANDARD
END:VTIMEZONE
END:VCALENDAR
