BEGIN:VCALENDAR
VERSION:2.0
PRODID:-//Plone.org//NONSGML plone.app.event//EN
X-WR-TIMEZONE:Europe/Rome
BEGIN:VEVENT
SUMMARY:Seminario di Dipartimento (SeRiC): "Il valore della verità. Una t
 eoria costitutivista fondata sulla fenomenologia del domandare e del giudi
 care"
DTSTART;TZID=Europe/Rome;VALUE=DATE-TIME:20181218T130000
DTEND;TZID=Europe/Rome;VALUE=DATE-TIME:20181218T150000
DTSTAMP;VALUE=DATE-TIME:20260421T072601Z
UID:82132de44a4d4e5fac3b13df26c11ed4@filo.unibo.it
CREATED;VALUE=DATE-TIME:20181213T091815Z
LAST-MODIFIED;VALUE=DATE-TIME:20181213T091846Z
URL:https://filo.unibo.it/it/eventi/seminario-di-dipartimento-seric-il-val
 ore-della-verita.-una-teoria-costitutivista-fondata-sulla-fenomenologia-de
 l-domandare-e-del-giudicare
END:VEVENT
BEGIN:VTIMEZONE
TZID:Europe/Rome
X-LIC-LOCATION:Europe/Rome
BEGIN:STANDARD
DTSTART;VALUE=DATE-TIME:20181028T020000
TZNAME:CET
TZOFFSETFROM:+0200
TZOFFSETTO:+0100
END:STANDARD
END:VTIMEZONE
END:VCALENDAR
