BEGIN:VCALENDAR
VERSION:2.0
PRODID:-//Plone.org//NONSGML plone.app.event//EN
X-WR-TIMEZONE:Europe/Rome
BEGIN:VEVENT
SUMMARY:Seminario di Dipartimento (SeRiC): "Che cos'è la geografia\, e pe
 rché nessun sapere può farne a meno" 
DTSTART;TZID=Europe/Rome;VALUE=DATE-TIME:20181017T150000
DTEND;TZID=Europe/Rome;VALUE=DATE-TIME:20181017T170000
DTSTAMP;VALUE=DATE-TIME:20260421T072518Z
UID:3027b442709f4f6486b977f6d6e802a9@filo.unibo.it
CREATED;VALUE=DATE-TIME:20181009T053248Z
LAST-MODIFIED;VALUE=DATE-TIME:20181009T073025Z
URL:https://filo.unibo.it/it/eventi/seminario-di-dipartimento-seric-che-co
 se-la-geografia-e-perche-nessun-sapere-puo-farne-a-meno
END:VEVENT
BEGIN:VTIMEZONE
TZID:Europe/Rome
X-LIC-LOCATION:Europe/Rome
BEGIN:DAYLIGHT
DTSTART;VALUE=DATE-TIME:20180325T030000
TZNAME:CEST
TZOFFSETFROM:+0100
TZOFFSETTO:+0200
END:DAYLIGHT
END:VTIMEZONE
END:VCALENDAR
