BEGIN:VCALENDAR
VERSION:2.0
PRODID:-//Plone.org//NONSGML plone.app.event//EN
X-WR-TIMEZONE:Europe/Rome
BEGIN:VEVENT
SUMMARY:Seminario di Dipartimento (SeRiC): "che cos’è un diagramma?"
DTSTART;TZID=Europe/Rome;VALUE=DATE-TIME:20180522T130000
DTEND;TZID=Europe/Rome;VALUE=DATE-TIME:20180522T150000
DTSTAMP;VALUE=DATE-TIME:20260421T091653Z
UID:378f224bc6fb4b419d3ea421c15b1bcf@filo.unibo.it
CREATED;VALUE=DATE-TIME:20180517T070104Z
LAST-MODIFIED;VALUE=DATE-TIME:20180517T070246Z
URL:https://filo.unibo.it/it/eventi/seminario-di-dipartimento-seric-che-co
 s2019e-un-diagramma
END:VEVENT
BEGIN:VTIMEZONE
TZID:Europe/Rome
X-LIC-LOCATION:Europe/Rome
BEGIN:DAYLIGHT
DTSTART;VALUE=DATE-TIME:20180325T030000
TZNAME:CEST
TZOFFSETFROM:+0100
TZOFFSETTO:+0200
END:DAYLIGHT
END:VTIMEZONE
END:VCALENDAR
