BEGIN:VCALENDAR
VERSION:2.0
PRODID:-//Plone.org//NONSGML plone.app.event//EN
X-WR-TIMEZONE:Europe/Rome
BEGIN:VEVENT
SUMMARY:Semantic Modeling between Empirical Data and Norms of Rationality:
  The Case of Conditionals - Jan Sprenger (Università di Torino)
DTSTART;TZID=Europe/Rome;VALUE=DATE-TIME:20241211T140000
DTEND;TZID=Europe/Rome;VALUE=DATE-TIME:20241211T150000
DTSTAMP;VALUE=DATE-TIME:20260421T111341Z
UID:6665a7cb53ef4e6f9256812029d50460@filo.unibo.it
CREATED;VALUE=DATE-TIME:20241129T095011Z
LAST-MODIFIED;VALUE=DATE-TIME:20241129T095012Z
URL:https://filo.unibo.it/it/eventi/semantic-modeling-between-empirical-da
 ta-and-norms-of-rationality-the-case-of-conditionals-jan-sprenger-universi
 ta-di-torino
END:VEVENT
BEGIN:VTIMEZONE
TZID:Europe/Rome
X-LIC-LOCATION:Europe/Rome
BEGIN:STANDARD
DTSTART;VALUE=DATE-TIME:20241027T020000
TZNAME:CET
TZOFFSETFROM:+0200
TZOFFSETTO:+0100
END:STANDARD
END:VTIMEZONE
END:VCALENDAR
