BEGIN:VCALENDAR
VERSION:2.0
PRODID:-//Plone.org//NONSGML plone.app.event//EN
X-WR-TIMEZONE:Europe/Rome
BEGIN:VEVENT
SUMMARY:Matricole in biblioteca 2018
DTSTART;TZID=Europe/Rome;VALUE=DATE-TIME:20181017T110000
DTEND;TZID=Europe/Rome;VALUE=DATE-TIME:20181115T110000
DTSTAMP;VALUE=DATE-TIME:20260421T072131Z
UID:79110048e3e2469fbe42cf9d5d7c1d1c@filo.unibo.it
CREATED;VALUE=DATE-TIME:20181009T095151Z
DESCRIPTION:IX edizione degli incontri dedicati all’accoglienza dei neoi
 scritti a Scienze della Comunicazione
LAST-MODIFIED;VALUE=DATE-TIME:20181115T071201Z
URL:https://filo.unibo.it/it/eventi/matricole-in-biblioteca-2018
END:VEVENT
BEGIN:VTIMEZONE
TZID:Europe/Rome
X-LIC-LOCATION:Europe/Rome
BEGIN:DAYLIGHT
DTSTART;VALUE=DATE-TIME:20180325T030000
TZNAME:CEST
TZOFFSETFROM:+0100
TZOFFSETTO:+0200
END:DAYLIGHT
BEGIN:STANDARD
DTSTART;VALUE=DATE-TIME:20181028T020000
TZNAME:CET
TZOFFSETFROM:+0200
TZOFFSETTO:+0100
END:STANDARD
END:VTIMEZONE
END:VCALENDAR
