BEGIN:VCALENDAR
VERSION:2.0
PRODID:-//Plone.org//NONSGML plone.app.event//EN
X-WR-TIMEZONE:Europe/Rome
BEGIN:VEVENT
SUMMARY:L'idea di tolleranza nell'illuminismo tedesco
DTSTART;TZID=Europe/Rome;VALUE=DATE-TIME:20240411T170000
DTEND;TZID=Europe/Rome;VALUE=DATE-TIME:20240411T190000
DTSTAMP;VALUE=DATE-TIME:20260422T221307Z
UID:2dc255fb9c4c4427bcbfa8f4139de707@filo.unibo.it
CREATED;VALUE=DATE-TIME:20240307T214633Z
LAST-MODIFIED;VALUE=DATE-TIME:20240307T214707Z
URL:https://filo.unibo.it/it/eventi/lidea-di-tolleranza-nellilluminismo-te
 desco
END:VEVENT
BEGIN:VTIMEZONE
TZID:Europe/Rome
X-LIC-LOCATION:Europe/Rome
BEGIN:DAYLIGHT
DTSTART;VALUE=DATE-TIME:20240331T030000
TZNAME:CEST
TZOFFSETFROM:+0100
TZOFFSETTO:+0200
END:DAYLIGHT
END:VTIMEZONE
END:VCALENDAR
