BEGIN:VCALENDAR
VERSION:2.0
PRODID:-//Plone.org//NONSGML plone.app.event//EN
X-WR-TIMEZONE:Europe/Rome
BEGIN:VEVENT
SUMMARY:Leggere la "Retorica" di Aristotele
DTSTART;TZID=Europe/Rome;VALUE=DATE-TIME:20211122T110000
DTEND;TZID=Europe/Rome;VALUE=DATE-TIME:20220513T170000
DTSTAMP;VALUE=DATE-TIME:20260422T185409Z
UID:daad1d88a57e4c3fa651663e9943c743@filo.unibo.it
CREATED;VALUE=DATE-TIME:20211115T094028Z
DESCRIPTION:Seminario Inter-Universitario Bergamo-Bologna-Venezia (a cura 
 di Maddalena Bonelli\, Carlotta Capuccino\, Francesca Masi e Giulia Minguc
 ci)
LAST-MODIFIED;VALUE=DATE-TIME:20220419T105817Z
URL:https://filo.unibo.it/it/eventi/leggere-la-retorica-di-aristotele
END:VEVENT
BEGIN:VTIMEZONE
TZID:Europe/Rome
X-LIC-LOCATION:Europe/Rome
BEGIN:STANDARD
DTSTART;VALUE=DATE-TIME:20211031T020000
TZNAME:CET
TZOFFSETFROM:+0200
TZOFFSETTO:+0100
END:STANDARD
BEGIN:DAYLIGHT
DTSTART;VALUE=DATE-TIME:20220327T030000
TZNAME:CEST
TZOFFSETFROM:+0100
TZOFFSETTO:+0200
END:DAYLIGHT
END:VTIMEZONE
END:VCALENDAR
