BEGIN:VCALENDAR
VERSION:2.0
PRODID:-//Plone.org//NONSGML plone.app.event//EN
X-WR-TIMEZONE:Europe/Rome
BEGIN:VEVENT
SUMMARY:Lectio magistralis della professoressa Giovanna Cosenza sulla comu
 nicazione dei servizi bibliotecari al tempo dei nuovi media.
DTSTART;TZID=Europe/Rome;VALUE=DATE-TIME:20180515T110000
DTEND;TZID=Europe/Rome;VALUE=DATE-TIME:20180515T130000
DTSTAMP;VALUE=DATE-TIME:20260421T091710Z
UID:ed80616e5ba647e8ad6813c7ed78f85a@filo.unibo.it
CREATED;VALUE=DATE-TIME:20180511T052432Z
DESCRIPTION:Lectio magistralis della Prof.ssa Giovanna Cosenza che riguard
 erà il tema della comunicazione dei servizi bibliotecari al tempo dei nuo
 vi media. 
LAST-MODIFIED;VALUE=DATE-TIME:20180511T052628Z
URL:https://filo.unibo.it/it/eventi/lectio-magistralis-della-professoressa
 -giovanna-cosenza-sulla-comunicazione-dei-servizi-bibliotecari-al-tempo-de
 i-nuovi-media
END:VEVENT
BEGIN:VTIMEZONE
TZID:Europe/Rome
X-LIC-LOCATION:Europe/Rome
BEGIN:DAYLIGHT
DTSTART;VALUE=DATE-TIME:20180325T030000
TZNAME:CEST
TZOFFSETFROM:+0100
TZOFFSETTO:+0200
END:DAYLIGHT
END:VTIMEZONE
END:VCALENDAR
