BEGIN:VCALENDAR
VERSION:2.0
PRODID:-//Plone.org//NONSGML plone.app.event//EN
X-WR-TIMEZONE:Europe/Rome
BEGIN:VEVENT
SUMMARY:LE FORME DELLA TEORIA. Giornata in ricordo di Maurizio Matteuzzi
DTSTART;TZID=Europe/Rome;VALUE=DATE-TIME:20180620T100000
DTEND;TZID=Europe/Rome;VALUE=DATE-TIME:20180620T130000
DTSTAMP;VALUE=DATE-TIME:20260421T072443Z
UID:4a0fd103d8c049c2802068ea3d1e66ee@filo.unibo.it
CREATED;VALUE=DATE-TIME:20180614T045814Z
LAST-MODIFIED;VALUE=DATE-TIME:20180614T045922Z
URL:https://filo.unibo.it/it/eventi/le-forme-della-teoria.-giornata-in-ric
 ordo-di-maurizio-matteuzzi
END:VEVENT
BEGIN:VTIMEZONE
TZID:Europe/Rome
X-LIC-LOCATION:Europe/Rome
BEGIN:DAYLIGHT
DTSTART;VALUE=DATE-TIME:20180325T030000
TZNAME:CEST
TZOFFSETFROM:+0100
TZOFFSETTO:+0200
END:DAYLIGHT
END:VTIMEZONE
END:VCALENDAR
