BEGIN:VCALENDAR
VERSION:2.0
PRODID:-//Plone.org//NONSGML plone.app.event//EN
X-WR-TIMEZONE:Europe/Rome
BEGIN:VEVENT
SUMMARY:Laboratorio su piazza Scaravilli
DTSTART;TZID=Europe/Rome;VALUE=DATE-TIME:20180313T160000
DTEND;TZID=Europe/Rome;VALUE=DATE-TIME:20180313T190000
DTSTAMP;VALUE=DATE-TIME:20260421T091258Z
UID:91dee772f9b74b13a9325bb1ed99ecf0@filo.unibo.it
CREATED;VALUE=DATE-TIME:20180313T112133Z
LAST-MODIFIED;VALUE=DATE-TIME:20180313T112245Z
URL:https://filo.unibo.it/it/eventi/laboratorio-su-piazza-scaravilli
END:VEVENT
BEGIN:VTIMEZONE
TZID:Europe/Rome
X-LIC-LOCATION:Europe/Rome
BEGIN:STANDARD
DTSTART;VALUE=DATE-TIME:20171029T020000
TZNAME:CET
TZOFFSETFROM:+0200
TZOFFSETTO:+0100
END:STANDARD
END:VTIMEZONE
END:VCALENDAR
