BEGIN:VCALENDAR
VERSION:2.0
PRODID:-//Plone.org//NONSGML plone.app.event//EN
X-WR-TIMEZONE:Europe/Rome
BEGIN:VEVENT
SUMMARY:K&C Reading Seminars - "Anatomia della mente: il cervello tra corp
 o e mondo"
DTSTART;TZID=Europe/Rome;VALUE=DATE-TIME:20241112T170000
DTEND;TZID=Europe/Rome;VALUE=DATE-TIME:20250515T190000
DTSTAMP;VALUE=DATE-TIME:20260419T171516Z
UID:5687b65fc7ab4d61854c5f9616acdca9@filo.unibo.it
CREATED;VALUE=DATE-TIME:20240919T180838Z
LAST-MODIFIED;VALUE=DATE-TIME:20241112T210709Z
URL:https://filo.unibo.it/it/eventi/k-c-reading-seminars-anatomia-della-me
 nte-il-cervello-tra-corpo-e-mondo
END:VEVENT
BEGIN:VTIMEZONE
TZID:Europe/Rome
X-LIC-LOCATION:Europe/Rome
BEGIN:STANDARD
DTSTART;VALUE=DATE-TIME:20241027T020000
TZNAME:CET
TZOFFSETFROM:+0200
TZOFFSETTO:+0100
END:STANDARD
BEGIN:DAYLIGHT
DTSTART;VALUE=DATE-TIME:20250330T030000
TZNAME:CEST
TZOFFSETFROM:+0100
TZOFFSETTO:+0200
END:DAYLIGHT
END:VTIMEZONE
END:VCALENDAR
