BEGIN:VCALENDAR
VERSION:2.0
PRODID:-//Plone.org//NONSGML plone.app.event//EN
X-WR-TIMEZONE:Europe/Rome
BEGIN:VEVENT
SUMMARY:Internazionalizzazione: incontro informativo sul bando di mobilit
 à Erasmus+\, Lunedì 13/1\, 11-13\, Aula Tibiletti\, v. Zamboni\, 38
DTSTART;TZID=Europe/Rome;VALUE=DATE-TIME:20241222T170000
DTEND;TZID=Europe/Rome;VALUE=DATE-TIME:20250113T130000
DTSTAMP;VALUE=DATE-TIME:20260421T130703Z
UID:a58ea9380fc048a3a881627a581e4513@filo.unibo.it
CREATED;VALUE=DATE-TIME:20241222T090959Z
LAST-MODIFIED;VALUE=DATE-TIME:20250104T175741Z
URL:https://filo.unibo.it/it/eventi/internazionalizzazione-incontro-inform
 ativo-sul-bando-di-mobilita-erasumus-lunedi-13-1-11-13-aula-tibiletti-v-za
 mboni-38
END:VEVENT
BEGIN:VTIMEZONE
TZID:Europe/Rome
X-LIC-LOCATION:Europe/Rome
BEGIN:STANDARD
DTSTART;VALUE=DATE-TIME:20241027T020000
TZNAME:CET
TZOFFSETFROM:+0200
TZOFFSETTO:+0100
END:STANDARD
END:VTIMEZONE
END:VCALENDAR
