BEGIN:VCALENDAR
VERSION:2.0
PRODID:-//Plone.org//NONSGML plone.app.event//EN
X-WR-TIMEZONE:Europe/Rome
BEGIN:VEVENT
SUMMARY:Internazionalizzazione: evento informativo sul bando "Tesi all'est
 ero"\, mercoledì 15/1\, 15-17\, Aula IV\, v. Zamboni\, 38
DTSTART;TZID=Europe/Rome;VALUE=DATE-TIME:20241220T150000
DTEND;TZID=Europe/Rome;VALUE=DATE-TIME:20250115T170000
DTSTAMP;VALUE=DATE-TIME:20260419T142011Z
UID:72c44d7a18054d1cb8a9bf6f4553cce5@filo.unibo.it
CREATED;VALUE=DATE-TIME:20241216T155455Z
LAST-MODIFIED;VALUE=DATE-TIME:20241222T085439Z
URL:https://filo.unibo.it/it/eventi/internazionalizzazione-evento-informat
 ivo-sul-bando-tesi-allestero
END:VEVENT
BEGIN:VTIMEZONE
TZID:Europe/Rome
X-LIC-LOCATION:Europe/Rome
BEGIN:STANDARD
DTSTART;VALUE=DATE-TIME:20241027T020000
TZNAME:CET
TZOFFSETFROM:+0200
TZOFFSETTO:+0100
END:STANDARD
END:VTIMEZONE
END:VCALENDAR
