BEGIN:VCALENDAR
VERSION:2.0
PRODID:-//Plone.org//NONSGML plone.app.event//EN
X-WR-TIMEZONE:Europe/Rome
BEGIN:VEVENT
SUMMARY:Incontri con gli Antichi
DTSTART;TZID=Europe/Rome;VALUE=DATE-TIME:20210617T150000
DTEND;TZID=Europe/Rome;VALUE=DATE-TIME:20210617T180000
DTSTAMP;VALUE=DATE-TIME:20260420T112754Z
UID:16efee0a624447f393225379c9aeb7c3@filo.unibo.it
CREATED;VALUE=DATE-TIME:20210607T080637Z
DESCRIPTION:Ciclo di Convegni in collaborazione con l’Accademia delle Sc
 ienze - Istituto di Bologna\na cura di Carlotta Capuccino e Walter Cavini
LAST-MODIFIED;VALUE=DATE-TIME:20210607T081224Z
URL:https://filo.unibo.it/it/eventi/incontri-con-gli-antichi
END:VEVENT
BEGIN:VTIMEZONE
TZID:Europe/Rome
X-LIC-LOCATION:Europe/Rome
BEGIN:DAYLIGHT
DTSTART;VALUE=DATE-TIME:20210328T030000
TZNAME:CEST
TZOFFSETFROM:+0100
TZOFFSETTO:+0200
END:DAYLIGHT
END:VTIMEZONE
END:VCALENDAR
