BEGIN:VCALENDAR
VERSION:2.0
PRODID:-//Plone.org//NONSGML plone.app.event//EN
X-WR-TIMEZONE:Europe/Rome
BEGIN:VEVENT
SUMMARY:Il Collegio presenta... Leggere Dio: "L'universo scritturistico de
 l cristianesimo antico" con Lorenzo Perrone 
DTSTART;TZID=Europe/Rome;VALUE=DATE-TIME:20180319T170000
DTEND;TZID=Europe/Rome;VALUE=DATE-TIME:20180319T190000
DTSTAMP;VALUE=DATE-TIME:20260421T091653Z
UID:c2d23aaea5d841d2b27033b8d3962314@filo.unibo.it
CREATED;VALUE=DATE-TIME:20180314T073423Z
DESCRIPTION:Cosa vuol dire "leggere Dio"? Qual è la sua importanza nella 
 storia delle Religioni del Libro? Il primo di una serie di incontri con st
 udiosi e religiosi per affrontare il tema in una prospettiva storica\, soc
 iale e culturale
LAST-MODIFIED;VALUE=DATE-TIME:20180314T073449Z
URL:https://filo.unibo.it/it/eventi/il-collegio-presenta...-leggere-dio-lu
 niverso-scritturistico-del-cristianesimo-antico-con-lorenzo-perrone
END:VEVENT
BEGIN:VTIMEZONE
TZID:Europe/Rome
X-LIC-LOCATION:Europe/Rome
BEGIN:STANDARD
DTSTART;VALUE=DATE-TIME:20171029T020000
TZNAME:CET
TZOFFSETFROM:+0200
TZOFFSETTO:+0100
END:STANDARD
END:VTIMEZONE
END:VCALENDAR
