BEGIN:VCALENDAR
VERSION:2.0
PRODID:-//Plone.org//NONSGML plone.app.event//EN
X-WR-TIMEZONE:Europe/Rome
BEGIN:VEVENT
SUMMARY:Filosofia e infanzia: teoria e pratica
DTSTART;TZID=Europe/Rome;VALUE=DATE-TIME:20181203T090000
DTEND;TZID=Europe/Rome;VALUE=DATE-TIME:20181205T183000
DTSTAMP;VALUE=DATE-TIME:20260421T091157Z
UID:a398bb2180804f00ab500c944e79ab72@filo.unibo.it
CREATED;VALUE=DATE-TIME:20181120T082644Z
DESCRIPTION:Il convegno è organizzato da FarFilò\, un gruppo di ricerca 
 sulle pratiche filosofiche con i bambini diretto da Silvia Demozzi (Dipart
 imento di Studi Educativi 'Giovanni Maria Bertin'\, Bologna) e Sebastiano 
 Moruzzi (Dipartimento di Filosofia e Comunicazione\, Bologna).
LAST-MODIFIED;VALUE=DATE-TIME:20181120T082855Z
URL:https://filo.unibo.it/it/eventi/filosofia-e-infanzia-teoria-e-pratica
END:VEVENT
BEGIN:VTIMEZONE
TZID:Europe/Rome
X-LIC-LOCATION:Europe/Rome
BEGIN:STANDARD
DTSTART;VALUE=DATE-TIME:20181028T020000
TZNAME:CET
TZOFFSETFROM:+0200
TZOFFSETTO:+0100
END:STANDARD
END:VTIMEZONE
END:VCALENDAR
