BEGIN:VCALENDAR
VERSION:2.0
PRODID:-//Plone.org//NONSGML plone.app.event//EN
X-WR-TIMEZONE:Europe/Rome
BEGIN:VEVENT
SUMMARY:Figure dell'altro. Identità\, alterità\, stranierità
DTSTART;TZID=Europe/Rome;VALUE=DATE-TIME:20180605T100000
DTEND;TZID=Europe/Rome;VALUE=DATE-TIME:20180607T180000
DTSTAMP;VALUE=DATE-TIME:20260421T072443Z
UID:64d442672d6c4be1bed004a3023124f3@filo.unibo.it
CREATED;VALUE=DATE-TIME:20180604T042424Z
DESCRIPTION:Congresso internazionale Bologna\, 5-6-7 giugno 2018 
LAST-MODIFIED;VALUE=DATE-TIME:20180604T042640Z
URL:https://filo.unibo.it/it/eventi/figure-dellaltro.-identita-alterita-st
 ranierita
END:VEVENT
BEGIN:VTIMEZONE
TZID:Europe/Rome
X-LIC-LOCATION:Europe/Rome
BEGIN:DAYLIGHT
DTSTART;VALUE=DATE-TIME:20180325T030000
TZNAME:CEST
TZOFFSETFROM:+0100
TZOFFSETTO:+0200
END:DAYLIGHT
END:VTIMEZONE
END:VCALENDAR
