BEGIN:VCALENDAR
VERSION:2.0
PRODID:-//Plone.org//NONSGML plone.app.event//EN
X-WR-TIMEZONE:Europe/Rome
BEGIN:VEVENT
SUMMARY:Blowing in the Wind of Logos: Ancient Philosophy Today
DTSTART;VALUE=DATE:20180917
DTEND;VALUE=DATE:20180921
DTSTAMP;VALUE=DATE-TIME:20260421T072422Z
UID:81d3dd780ef34723a541fff0ff4ff3d1@filo.unibo.it
CREATED;VALUE=DATE-TIME:20180907T071833Z
DESCRIPTION: A trilingual (Italian\, English and French) international con
 ference.
LAST-MODIFIED;VALUE=DATE-TIME:20180907T072055Z
URL:https://filo.unibo.it/it/eventi/blowing-in-the-wind-of-logos-ancient-p
 hilosophy-today
END:VEVENT
END:VCALENDAR
