BEGIN:VCALENDAR
VERSION:2.0
PRODID:-//Plone.org//NONSGML plone.app.event//EN
X-WR-TIMEZONE:Europe/Rome
BEGIN:VEVENT
SUMMARY:Bittersweet Talk Series
DTSTART;TZID=Europe/Rome;VALUE=DATE-TIME:20240320T110000
DTEND;TZID=Europe/Rome;VALUE=DATE-TIME:20240422T130000
DTSTAMP;VALUE=DATE-TIME:20260420T063631Z
UID:76ce5a24dcc14e71a998a387514da302@filo.unibo.it
CREATED;VALUE=DATE-TIME:20240307T072554Z
DESCRIPTION:.
LAST-MODIFIED;VALUE=DATE-TIME:20240315T120210Z
URL:https://filo.unibo.it/it/eventi/bittersweet-talk-series
END:VEVENT
BEGIN:VTIMEZONE
TZID:Europe/Rome
X-LIC-LOCATION:Europe/Rome
BEGIN:STANDARD
DTSTART;VALUE=DATE-TIME:20231029T020000
TZNAME:CET
TZOFFSETFROM:+0200
TZOFFSETTO:+0100
END:STANDARD
BEGIN:DAYLIGHT
DTSTART;VALUE=DATE-TIME:20240331T030000
TZNAME:CEST
TZOFFSETFROM:+0100
TZOFFSETTO:+0200
END:DAYLIGHT
END:VTIMEZONE
END:VCALENDAR
