BEGIN:VCALENDAR
VERSION:2.0
PRODID:-//Plone.org//NONSGML plone.app.event//EN
X-WR-TIMEZONE:Europe/Rome
BEGIN:VEVENT
SUMMARY:AlmaIdea I-CoRe Final Conference: “Complexity\, Inter-Connectivi
 ty and Resilience”
DTSTART;VALUE=DATE:20191205
DTEND;VALUE=DATE:20191207
DTSTAMP;VALUE=DATE-TIME:20260425T052730Z
UID:599624fb93344f799103d11701f2e7b4@filo.unibo.it
CREATED;VALUE=DATE-TIME:20191127T054508Z
DESCRIPTION:\n
LAST-MODIFIED;VALUE=DATE-TIME:20191127T054524Z
URL:https://filo.unibo.it/it/eventi/almaidea-i-core-final-conference-201cc
 omplexity-inter-connectivity-and-resilience201d
END:VEVENT
END:VCALENDAR
